BEGIN:VCALENDAR
VERSION:2.0
PRODID:-//eventon.com NONSGML v1.0//EN
CALSCALE:GREGORIAN
METHOD:PUBLISH
BEGIN:VEVENT
UID:69eacd0e80cb9
DTSTAMP:20260424T015318Z
DTSTART:20260410T093000Z
DTEND:20260410T110000Z
LOCATION:
SUMMARY:Parent Walk & Talk
DESCRIPTION:Parent Walk & Talk\nhttps://www.bancroftpto.org/events/parent-w
 alk-talk-2
URL:https://www.bancroftpto.org/events/parent-walk-talk-2
END:VEVENT
END:VCALENDAR