BEGIN:VCALENDAR
VERSION:2.0
PRODID:-//eventon.com NONSGML v1.0//EN
CALSCALE:GREGORIAN
METHOD:PUBLISH
BEGIN:VEVENT
UID:69eacd09cbe50
DTSTAMP:20260424T015313Z
DTSTART:20260413T210000Z
DTEND:20260414T010000Z
LOCATION:
SUMMARY:Casa Blanca Dine-In Night
DESCRIPTION:Casa Blanca Dine-In Night\nhttps://www.bancroftpto.org/events/c
 asa-blanca-dine-in-night
URL:https://www.bancroftpto.org/events/casa-blanca-dine-in-night
END:VEVENT
END:VCALENDAR