BEGIN:VCALENDAR
VERSION:2.0
PRODID:-//eventon.com NONSGML v1.0//EN
CALSCALE:GREGORIAN
METHOD:PUBLISH
BEGIN:VEVENT
UID:69eaccb7d27eb
DTSTAMP:20260424T015151Z
DTSTART:20260410
DTEND:20260411
LOCATION:
SUMMARY:Plimoth Patuxet\,  The Wampanoag Way (Grade 2)
DESCRIPTION:Plimoth Patuxet\,  The Wampanoag Way (Grade 2)\nhttps://www.ban
 croftpto.org/events/plimoth-patuxet-the-wampanoag-way-grade-2
URL:https://www.bancroftpto.org/events/plimoth-patuxet-the-wampanoag-way-grade-2
END:VEVENT
END:VCALENDAR