BEGIN:VCALENDAR
VERSION:2.0
PRODID:-//eventon.com NONSGML v1.0//EN
CALSCALE:GREGORIAN
METHOD:PUBLISH
BEGIN:VEVENT
UID:69eacd0fb4988
DTSTAMP:20260424T015319Z
DTSTART:20260501
DTEND:20260502
LOCATION:
SUMMARY:Techsploration\,  Electricity (Grade 5)
DESCRIPTION:Techsploration\,  Electricity (Grade 5)\nhttps://www.bancroftpt
 o.org/events/techsploration-electricity-grade-5-3
URL:https://www.bancroftpto.org/events/techsploration-electricity-grade-5-3
END:VEVENT
END:VCALENDAR