BEGIN:VCALENDAR
VERSION:2.0
PRODID:-//eventon.com NONSGML v1.0//EN
CALSCALE:GREGORIAN
METHOD:PUBLISH
BEGIN:VEVENT
UID:69eacc767ca5c
DTSTAMP:20260424T015046Z
DTSTART:20260619
DTEND:20260620
LOCATION:
SUMMARY:Juneteenth
DESCRIPTION:Juneteenth\nhttps://www.bancroftpto.org/events/juneteenth
URL:https://www.bancroftpto.org/events/juneteenth
END:VEVENT
END:VCALENDAR