BEGIN:VCALENDAR
VERSION:2.0
PRODID:-//eventon.com NONSGML v1.0//EN
CALSCALE:GREGORIAN
METHOD:PUBLISH
BEGIN:VEVENT
UID:69eacd0ec3448
DTSTAMP:20260424T015318Z
DTSTART:20260618
DTEND:20260619
LOCATION:
SUMMARY:Potential Last Day of School (with 5 snow days)
DESCRIPTION:Potential Last Day of School (with 5 snow days)\nhttps://www.ba
 ncroftpto.org/events/potential-last-day-of-school-with-5-snow-days-copy
URL:https://www.bancroftpto.org/events/potential-last-day-of-school-with-5-snow-days-copy
END:VEVENT
END:VCALENDAR