BEGIN:VCALENDAR
VERSION:2.0
PRODID:-//eventon.com NONSGML v1.0//EN
CALSCALE:GREGORIAN
METHOD:PUBLISH
BEGIN:VEVENT
UID:69eaccb93d8d3
DTSTAMP:20260424T015153Z
DTSTART:20260611
DTEND:20260612
LOCATION:
SUMMARY:Potential Last Day of School (with no snow days)
DESCRIPTION:Potential Last Day of School (with no snow days)\nhttps://www.b
 ancroftpto.org/events/potential-last-day-of-school-with-no-snow-days
URL:https://www.bancroftpto.org/events/potential-last-day-of-school-with-no-snow-days
END:VEVENT
END:VCALENDAR