BEGIN:VCALENDAR
VERSION:2.0
PRODID:-//eventon.com NONSGML v1.0//EN
CALSCALE:GREGORIAN
METHOD:PUBLISH
BEGIN:VEVENT
UID:69eacd41b2125
DTSTAMP:20260424T015409Z
DTSTART:20260605
DTEND:20260606
LOCATION:
SUMMARY:Spring Fun Run & Ice Cream Social
DESCRIPTION:Spring Fun Run & Ice Cream Social\nhttps://www.bancroftpto.org/
 events/spring-fun-run-ice-cream-social-2
URL:https://www.bancroftpto.org/events/spring-fun-run-ice-cream-social-2
END:VEVENT
END:VCALENDAR