BEGIN:VCALENDAR
VERSION:2.0
PRODID:-//eventon.com NONSGML v1.0//EN
CALSCALE:GREGORIAN
METHOD:PUBLISH
BEGIN:VEVENT
UID:69eacc75a145c
DTSTAMP:20260424T015045Z
DTSTART:20260525
DTEND:20260526
LOCATION:
SUMMARY:No School (Memorial Day)
DESCRIPTION:No School (Memorial Day)\nhttps://www.bancroftpto.org/events/no
 -school-memorial-day-7
URL:https://www.bancroftpto.org/events/no-school-memorial-day-7
END:VEVENT
END:VCALENDAR