BEGIN:VCALENDAR
VERSION:2.0
PRODID:-//eventon.com NONSGML v1.0//EN
CALSCALE:GREGORIAN
METHOD:PUBLISH
BEGIN:VEVENT
UID:69eacc8eecd57
DTSTAMP:20260424T015110Z
DTSTART:20260514
DTEND:20260515
LOCATION:
SUMMARY:Maker Night & Book Fair Parent Shopping
DESCRIPTION:Maker Night & Book Fair Parent Shopping\nhttps://www.bancroftpt
 o.org/events/maker-night-book-fair-parent-shopping
URL:https://www.bancroftpto.org/events/maker-night-book-fair-parent-shopping
END:VEVENT
END:VCALENDAR