BEGIN:VCALENDAR
VERSION:2.0
PRODID:-//eventon.com NONSGML v1.0//EN
CALSCALE:GREGORIAN
METHOD:PUBLISH
BEGIN:VEVENT
UID:69eacc51d7273
DTSTAMP:20260424T015009Z
DTSTART:20260512T190000Z
DTEND:20260512T235900Z
LOCATION:
SUMMARY:PTO Meeting (In-Person & Virtual)
DESCRIPTION:PTO Meeting (In-Person & Virtual)\nhttps://www.bancroftpto.org/
 events/pto-meeting-in-person-virtual-7
URL:https://www.bancroftpto.org/events/pto-meeting-in-person-virtual-7
END:VEVENT
END:VCALENDAR