BEGIN:VCALENDAR
VERSION:2.0
PRODID:-//eventon.com NONSGML v1.0//EN
CALSCALE:GREGORIAN
METHOD:PUBLISH
BEGIN:VEVENT
UID:69eacce56518f
DTSTAMP:20260424T015237Z
DTSTART:20260511
DTEND:20260512
LOCATION:
SUMMARY:Spring Book Fair Student Shopping
DESCRIPTION:Spring Book Fair Student Shopping\nhttps://www.bancroftpto.org/
 events/spring-book-fair-student-shopping-2
URL:https://www.bancroftpto.org/events/spring-book-fair-student-shopping-2
END:VEVENT
END:VCALENDAR