BEGIN:VCALENDAR
VERSION:2.0
PRODID:-//eventon.com NONSGML v1.0//EN
CALSCALE:GREGORIAN
METHOD:PUBLISH
BEGIN:VEVENT
UID:69eacd09a292c
DTSTAMP:20260424T015313Z
DTSTART:20260508
DTEND:20260509
LOCATION:
SUMMARY:Spring Fling
DESCRIPTION:Spring Fling\nhttps://www.bancroftpto.org/events/spring-fling-7
URL:https://www.bancroftpto.org/events/spring-fling-7
END:VEVENT
END:VCALENDAR