BEGIN:VCALENDAR
VERSION:2.0
PRODID:-//eventon.com NONSGML v1.0//EN
CALSCALE:GREGORIAN
METHOD:PUBLISH
BEGIN:VEVENT
UID:69eacc522465c
DTSTAMP:20260424T015010Z
DTSTART:20260506T130600Z
DTEND:20260506T130600Z
LOCATION:
SUMMARY:Early Release Day
DESCRIPTION:Early Release Day\nhttps://www.bancroftpto.org/events/early-rel
 ease-day-53
URL:https://www.bancroftpto.org/events/early-release-day-53
END:VEVENT
END:VCALENDAR