BEGIN:VCALENDAR
VERSION:2.0
PRODID:-//eventon.com NONSGML v1.0//EN
CALSCALE:GREGORIAN
METHOD:PUBLISH
BEGIN:VEVENT
UID:69eacc7563915
DTSTAMP:20260424T015045Z
DTSTART:20260505
DTEND:20260506
LOCATION:
SUMMARY:Discovery Museum\,  Lights & Lasers (Grade 1)
DESCRIPTION:Discovery Museum\,  Lights & Lasers (Grade 1)\nhttps://www.banc
 roftpto.org/events/discovery-museum-lights-lasers-grade-1-2
URL:https://www.bancroftpto.org/events/discovery-museum-lights-lasers-grade-1-2
END:VEVENT
END:VCALENDAR