BEGIN:VCALENDAR
VERSION:2.0
PRODID:-//eventon.com NONSGML v1.0//EN
CALSCALE:GREGORIAN
METHOD:PUBLISH
BEGIN:VEVENT
UID:69eacce65bd14
DTSTAMP:20260424T015238Z
DTSTART:20260504
DTEND:20260505
LOCATION:
SUMMARY:Staff Appreciation Week
DESCRIPTION:Staff Appreciation Week\nhttps://www.bancroftpto.org/events/sta
 ff-appreciation-week-6
URL:https://www.bancroftpto.org/events/staff-appreciation-week-6
END:VEVENT
END:VCALENDAR