BEGIN:VCALENDAR
VERSION:2.0
PRODID:-//eventon.com NONSGML v1.0//EN
CALSCALE:GREGORIAN
METHOD:PUBLISH
BEGIN:VEVENT
UID:69eacce56287d
DTSTAMP:20260424T015237Z
DTSTART:20260429
DTEND:20260430
LOCATION:
SUMMARY:Family Fitness Night with Mrs. Leavitt
DESCRIPTION:Family Fitness Night with Mrs. Leavitt\nhttps://www.bancroftpto
 .org/events/family-fitness-night-with-mrs-leavitt-2
URL:https://www.bancroftpto.org/events/family-fitness-night-with-mrs-leavitt-2
END:VEVENT
END:VCALENDAR