BEGIN:VCALENDAR
VERSION:2.0
PRODID:-//eventon.com NONSGML v1.0//EN
CALSCALE:GREGORIAN
METHOD:PUBLISH
BEGIN:VEVENT
UID:69eacd0ab95f4
DTSTAMP:20260424T015314Z
DTSTART:20260420
DTEND:20260421
LOCATION:
SUMMARY:No School (Patriots' Day & April Break)
DESCRIPTION:No School (Patriots' Day & April Break)\nhttps://www.bancroftpt
 o.org/events/no-school-patriots-day-april-break-2
URL:https://www.bancroftpto.org/events/no-school-patriots-day-april-break-2
END:VEVENT
END:VCALENDAR