BEGIN:VCALENDAR
VERSION:2.0
PRODID:-//eventon.com NONSGML v1.0//EN
CALSCALE:GREGORIAN
METHOD:PUBLISH
BEGIN:VEVENT
UID:69eaccb7cfac5
DTSTAMP:20260424T015151Z
DTSTART:20260415
DTEND:20260416
LOCATION:
SUMMARY:School Play (Two Evening Shows)
DESCRIPTION:School Play (Two Evening Shows)\nhttps://www.bancroftpto.org/ev
 ents/school-play-two-evening-shows
URL:https://www.bancroftpto.org/events/school-play-two-evening-shows
END:VEVENT
END:VCALENDAR