BEGIN:VCALENDAR
VERSION:2.0
PRODID:-//eventon.com NONSGML v1.0//EN
CALSCALE:GREGORIAN
METHOD:PUBLISH
BEGIN:VEVENT
UID:69eacc52a8e0d
DTSTAMP:20260424T015010Z
DTSTART:20260408
DTEND:20260409
LOCATION:
SUMMARY:Early Release Day
DESCRIPTION:Early Release Day\nhttps://www.bancroftpto.org/events/early-rel
 ease-day-52
URL:https://www.bancroftpto.org/events/early-release-day-52
END:VEVENT
END:VCALENDAR